BEGIN:VCALENDAR
VERSION:2.0
PRODID:-//NSTA Maroochydore - ECPv6.15.20//NONSGML v1.0//EN
CALSCALE:GREGORIAN
METHOD:PUBLISH
X-ORIGINAL-URL:https://maroochydore.nsta.edu.au
X-WR-CALDESC:Events for NSTA Maroochydore
REFRESH-INTERVAL;VALUE=DURATION:PT1H
X-Robots-Tag:noindex
X-PUBLISHED-TTL:PT1H
BEGIN:VTIMEZONE
TZID:Australia/Brisbane
BEGIN:STANDARD
TZOFFSETFROM:+1000
TZOFFSETTO:+1000
TZNAME:AEST
DTSTART:20210101T000000
END:STANDARD
END:VTIMEZONE
BEGIN:VEVENT
DTSTART;TZID=Australia/Brisbane:20220311T163000
DTEND;TZID=Australia/Brisbane:20220311T203000
DTSTAMP:20260423T212840
CREATED:20220228T001133Z
LAST-MODIFIED:20220228T001506Z
UID:1442-1647016200-1647030600@maroochydore.nsta.edu.au
SUMMARY:Skill Assessment Training March 2022 - Day 5
DESCRIPTION:Note : Students can get started straight away once enrolled with their knowledge assessments.
URL:https://maroochydore.nsta.edu.au/schedule/skill-assessment-training-march-2022-day-5/
LOCATION:NSTA Maroochydore\, 13/64 Sugar Rd\, Maroochydore\, QLD\, 4558\, Australia
ORGANIZER;CN="NSTA Maroochydore":MAILTO:maroochydore@nsta.edu.au
END:VEVENT
BEGIN:VEVENT
DTSTART;TZID=Australia/Brisbane:20220310T163000
DTEND;TZID=Australia/Brisbane:20220310T203000
DTSTAMP:20260423T212840
CREATED:20220228T000448Z
LAST-MODIFIED:20220228T001513Z
UID:1440-1646929800-1646944200@maroochydore.nsta.edu.au
SUMMARY:Skill Assessment Training March 2022 - Day 4
DESCRIPTION:Note : Students can get started straight away once enrolled with their knowledge assessments.
URL:https://maroochydore.nsta.edu.au/schedule/skill-assessment-training-march-2022-day-4/
LOCATION:NSTA Maroochydore\, 13/64 Sugar Rd\, Maroochydore\, QLD\, 4558\, Australia
ORGANIZER;CN="NSTA Maroochydore":MAILTO:maroochydore@nsta.edu.au
END:VEVENT
BEGIN:VEVENT
DTSTART;TZID=Australia/Brisbane:20220309T163000
DTEND;TZID=Australia/Brisbane:20220309T203000
DTSTAMP:20260423T212840
CREATED:20220228T000240Z
LAST-MODIFIED:20220228T001455Z
UID:1438-1646843400-1646857800@maroochydore.nsta.edu.au
SUMMARY:Skill Assessment Training March 2022 - Day 3
DESCRIPTION:Note : Students can get started straight away once enrolled with their knowledge assessments.
URL:https://maroochydore.nsta.edu.au/schedule/skill-assessment-training-march-2022-day-3/
LOCATION:NSTA Maroochydore\, 13/64 Sugar Rd\, Maroochydore\, QLD\, 4558\, Australia
ORGANIZER;CN="NSTA Maroochydore":MAILTO:maroochydore@nsta.edu.au
END:VEVENT
BEGIN:VEVENT
DTSTART;TZID=Australia/Brisbane:20220308T163000
DTEND;TZID=Australia/Brisbane:20220308T203000
DTSTAMP:20260423T212840
CREATED:20211113T041500Z
LAST-MODIFIED:20220228T001434Z
UID:1106-1646757000-1646771400@maroochydore.nsta.edu.au
SUMMARY:Skill Assessment Training March 2022 - Day 2
DESCRIPTION:Note : Students can get started straight away once enrolled with their knowledge assessments.
URL:https://maroochydore.nsta.edu.au/schedule/skill-assessment-training-day-2/
LOCATION:NSTA Maroochydore\, 13/64 Sugar Rd\, Maroochydore\, QLD\, 4558\, Australia
CATEGORIES:Security
ORGANIZER;CN="NSTA Maroochydore":MAILTO:maroochydore@nsta.edu.au
END:VEVENT
BEGIN:VEVENT
DTSTART;TZID=Australia/Brisbane:20220307T163000
DTEND;TZID=Australia/Brisbane:20220307T203000
DTSTAMP:20260423T212840
CREATED:20211029T021540Z
LAST-MODIFIED:20220228T001413Z
UID:925-1646670600-1646685000@maroochydore.nsta.edu.au
SUMMARY:Skill Assessment Training March 2022 - Day 1
DESCRIPTION:Note : Students can get started straight away once enrolled with their knowledge assessments.
URL:https://maroochydore.nsta.edu.au/schedule/skill-assessment-training-day-1/
LOCATION:NSTA Maroochydore\, 13/64 Sugar Rd\, Maroochydore\, QLD\, 4558\, Australia
CATEGORIES:Security
ORGANIZER;CN="NSTA Maroochydore":MAILTO:maroochydore@nsta.edu.au
END:VEVENT
END:VCALENDAR